BEGIN:VCALENDAR
VERSION:2.0
PRODID:-//AIMFG INSIGHTS - ECPv6.15.18//NONSGML v1.0//EN
CALSCALE:GREGORIAN
METHOD:PUBLISH
X-ORIGINAL-URL:https://aimfg.us
X-WR-CALDESC:Events for AIMFG INSIGHTS
REFRESH-INTERVAL;VALUE=DURATION:PT1H
X-Robots-Tag:noindex
X-PUBLISHED-TTL:PT1H
BEGIN:VTIMEZONE
TZID:America/Halifax
BEGIN:DAYLIGHT
TZOFFSETFROM:-0400
TZOFFSETTO:-0300
TZNAME:ADT
DTSTART:20230312T060000
END:DAYLIGHT
BEGIN:STANDARD
TZOFFSETFROM:-0300
TZOFFSETTO:-0400
TZNAME:AST
DTSTART:20231105T050000
END:STANDARD
BEGIN:DAYLIGHT
TZOFFSETFROM:-0400
TZOFFSETTO:-0300
TZNAME:ADT
DTSTART:20240310T060000
END:DAYLIGHT
BEGIN:STANDARD
TZOFFSETFROM:-0300
TZOFFSETTO:-0400
TZNAME:AST
DTSTART:20241103T050000
END:STANDARD
BEGIN:DAYLIGHT
TZOFFSETFROM:-0400
TZOFFSETTO:-0300
TZNAME:ADT
DTSTART:20250309T060000
END:DAYLIGHT
BEGIN:STANDARD
TZOFFSETFROM:-0300
TZOFFSETTO:-0400
TZNAME:AST
DTSTART:20251102T050000
END:STANDARD
BEGIN:DAYLIGHT
TZOFFSETFROM:-0400
TZOFFSETTO:-0300
TZNAME:ADT
DTSTART:20260308T060000
END:DAYLIGHT
BEGIN:STANDARD
TZOFFSETFROM:-0300
TZOFFSETTO:-0400
TZNAME:AST
DTSTART:20261101T050000
END:STANDARD
BEGIN:DAYLIGHT
TZOFFSETFROM:-0400
TZOFFSETTO:-0300
TZNAME:ADT
DTSTART:20270314T060000
END:DAYLIGHT
BEGIN:STANDARD
TZOFFSETFROM:-0300
TZOFFSETTO:-0400
TZNAME:AST
DTSTART:20271107T050000
END:STANDARD
END:VTIMEZONE
BEGIN:VEVENT
DTSTART;VALUE=DATE:20260408
DTEND;VALUE=DATE:20260411
DTSTAMP:20260421T140934
CREATED:20260408T092037Z
LAST-MODIFIED:20260408T092037Z
UID:2098-1775606400-1775865599@aimfg.us
SUMMARY:ASRock Industrial Accelerates Intelligent Automation with Secure Edge AIoT Solutions at Japan IT Week Spring 2026
DESCRIPTION:ASRock Industrial announces its participation in Japan IT Week Spring 2026\, taking place from April 8-10\, 2026 at Tokyo Big Sight\, Japan\, Booth W24-6. At the event\, the company will present its latest secure edge AIoT portfolio\, combining high-performance computing platforms with integrated cybersecurity and intelligent automation software to support next-generation digital transformation across industrial and commercial environments. Designed to address the accelerating demand for smart manufacturing\, AI-driven automation\, and resilient infrastructure\, ASRock Industrial’s solutions enable seamless deployment from edge device to system operation while ensuring long-term reliability and security. \nProduct Highlights at Japan IT Week \n\nIndustrial Robust Edge AIoT Platform – ASRock Industrial will feature scalable edge AI platforms built for compute-intensive workloads requiring both centralized training and real-time inference. The iEPF-11000S Series\, powered by Intel® Xeon® 600 processors with support for up to four GPUs\, delivers enterprise-grade AI processing for advanced industrial applications. For space-constrained environments\, the iEPF-9040S-EW4 and iEP-9040E provide compact yet reliable inference performance suitable for factory automation\, machine vision\, and smart infrastructure deployments.\nIndustrial IoT Controller – ASRock Industrial will also present its industrial IoT Controller lineup\, including iEP-7040E\, iEP-5010G-DCN\, and iEP-6020E Series\, designed to enable deterministic control\, OT integration and seamless connectivity between AI intelligence and field equipment. The rugged iEP-5010G-DCN supports operation in hazardous environments with industrial safety certifications and durable design\, the platform enables reliable real-time OT integration and deterministic control across demanding sectors such as oil & gas\, chemical processing\, and heavy manufacturing. With edge AI readiness and rich industrial connectivity\, the iEP-5010G-DCN helps organizations enhance operational safety\, minimize downtime\, and support intelligent automation at the edge.  \nEmbedded Computer System – ASRock Industrial’s embedded computing lineup demonstrates significant advances in AI acceleration and energy-efficient inference. The NUC(S) Ultra 300 BOX Series\, powered by Intel® Core™ Ultra Series 3 processors\, enables high-performance on-device AI processing with optimized power efficiency for edge deployments. Also showcased the AI BOX-A395\, powered by AMD Ryzen™ AI MAX+ 395\, delivering workstation-class AI capability in a compact form factor for demanding inference development and data-intensive workloads.\nIndustrial Motherboard – The exhibition will also highlight ASRock Industrial’s latest industrial motherboard portfolio\, including the IMB-X1904 with Intel® Xeon® 600 processors\, along platforms supporting Intel® Core™ Ultra Series 3/2\, Core™ Series 2\, Atom processors\, and AMD EPYC™ 4005\, Ryzen™ 9000/8000/7000\, Ryzen™ AI processors. Engineered for longevity and reliability\, these boards provide secure firmware architecture\, extensive I/O connectivity\, and flexible expansion options to support automation systems\, AI-enabled devices\, and long-lifecycle embedded deployments.\nAiSafeguard Solution– At Japan IT Week\, ASRock Industrial will also present a live demonstration of AiSafeguard\, its industrial cybersecurity solution designed to protect increasingly connected OT environments. The demo highlights capabilities including real-time threat detection and device monitoring\, honeypot-based sandbox isolation\, zero-trust access control\, data integrity protection and enhanced system resilience. Integrated with ASRock Industrial’s edge platforms\, AiSafeguard provides centralized visibility and proactive protection to help organizations strengthen cybersecurity across industrial automation environments. \n\nASRock Industrial invites visitors to Booth W24-6 at Japan IT Week Spring 2026 to explore its latest innovations in edge AI computing\, industrial automation\, and cybersecurity\, and to discuss practical deployment strategies for intelligent and secure digital transformation. \nTo learn more about ASRock Industrial’s products\, please visit our Website or contact us at Product Inquiry.
URL:https://aimfg.us/event/asrock-industrial-accelerates-intelligent-automation-with-secure-edge-aiot-solutions-at-japan-it-week-spring-2026/
LOCATION:Japan
CATEGORIES:Trade Fair
ATTACH;FMTTYPE=image/jpeg:https://aimfg.us/wp-content/uploads/2026/04/2026-Japan-IT-Week-1200x600-1.jpg
END:VEVENT
BEGIN:VEVENT
DTSTART;VALUE=DATE:20250521
DTEND;VALUE=DATE:20250524
DTSTAMP:20260421T140934
CREATED:20240507T080651Z
LAST-MODIFIED:20240507T080942Z
UID:1735-1747785600-1748044799@aimfg.us
SUMMARY:GITEX EUROPE 2025
DESCRIPTION:Experience the future of technology at GITEX EUROPE\, the most global\, collaborative tech event in Europe.\, where the latest in AI\, biotech\, quantum technology\,  sustainability\, and more meet in Berlin. Happening May 21-23\, 2025\, draws trade professionals\, leading brands\, and innovative startups from over 100 countries.\nHosted in the innovation capital\, Berlin\, GITEX EUROPE is the most global\, collaborative tech and startup event in Europe. It catalyses the tech ecosystem\, sparking public-private synergies\, and propelling Europe’s digital economy to new heights. \nIt’s where the world’s tech innovators\, governments\, and industry leaders converge to accelerate technological transformation and shape a globally connected future. \n\n🤖 AI Revolution: Amazon Injects €700M into European Robotics and AI \n\nRevolutionising the retail experience in Europe with a massive €700 million investment in cutting-edge robotics and AI technologies\, creating new job opportunities and setting new industry standards.\n\n\n\n🧬Biotech Boom: UK’s £2 Billion Strategy to Propel Engineering Biology \n\nThe UK government has unveiled an ambitious £2 billion plan to enhance its biotech sector\, targeting revolutionary applications in healthcare and sustainable fuels\, signaling a new era of tech-driven economic growth.\n\n\n\n⚛️ Quantum Valley: Europe’s Strategic Roadmap to Quantum Dominance \n\nWith a new roadmap by the Quantum Flagship\, Europe is positioning itself as the global leader in quantum technologies\, aiming to become the Quantum Valley—a beacon of innovation and research excellence.\n\n\n\n🌱 Green Future: EU Updates Industrial Emissions Rules to Foster Sustainability \n\nThe European Union is stepping up its game in environmental conservation with updated regulations to better monitor and regulate industrial emissions\, promoting energy efficiency and a more sustainable industrial framework.
URL:https://aimfg.us/event/gitex-europe-2025/
LOCATION:Berlin\, Germany
CATEGORIES:Trade Fair
ATTACH;FMTTYPE=image/png:https://aimfg.us/wp-content/uploads/2024/05/AI-event.png
END:VEVENT
BEGIN:VEVENT
DTSTART;TZID=America/Halifax:20240813T080000
DTEND;TZID=America/Halifax:20240815T170000
DTSTAMP:20260421T140934
CREATED:20240326T210723Z
LAST-MODIFIED:20240326T210723Z
UID:1421-1723536000-1723741200@aimfg.us
SUMMARY:AIMST 2024
DESCRIPTION:Where Manufacturing\, ICS\, and SCADA ProfessionalsDiscuss Transforming Their Operational Systems\n\n\nAIMST is an industry leading conference focused on providing in-depth discussions and solutions for heads of manufacturing\, technology manager\, ICS\, IT/OT\, SCADA and cyber security professionals to accelerate their digital transformation and transform their operational and automation systems. \n​ \nAttendees of the event will leave with the knowledge to improve their systems to better monitor/control equipment\, optimize value\, prevent cyber attacks\, increase supply chain efficiency and harness valuable data to optimize processes
URL:https://aimfg.us/event/aimst-2024/
LOCATION:The Westin Pittsburgh\, 1000 Penn Ave\, Pittsburgh\, PA\, 15222\, United States
CATEGORIES:Conference,Trade Fair
ATTACH;FMTTYPE=image/png:https://aimfg.us/wp-content/uploads/2024/03/Screen-Shot-2024-03-26-at-17.06.36.png
END:VEVENT
BEGIN:VEVENT
DTSTART;VALUE=DATE:20240506
DTEND;VALUE=DATE:20240510
DTSTAMP:20260421T140934
CREATED:20240321T014453Z
LAST-MODIFIED:20240321T132149Z
UID:1283-1714953600-1715299199@aimfg.us
SUMMARY:AUTOMATE 2024
DESCRIPTION:THE SHOW FOR AUTOMATION\nMay 6–9\, 2024 · Chicago\, Illinois\, USA\nWith over 800 exhibitors\, our show floor hosts leading automation solutions from around the world. You’ll find everything from robotics to vision to motion control\, AI and more. Join us to see how automation is no longer just the future; it’s the here and now. \nhttps://www.automateshow.com/trade-show
URL:https://aimfg.us/event/automate-2024/
LOCATION:MCCORMICK PLACE\, 2301 S Martin Luther King Dr.\, Chicago\, IL\, 60616\, United States
CATEGORIES:Trade Fair
ATTACH;FMTTYPE=image/png:https://aimfg.us/wp-content/uploads/2024/03/Screen-Shot-2024-03-19-at-15.45.41.png
END:VEVENT
END:VCALENDAR