BEGIN:VCALENDAR
VERSION:2.0
PRODID:-//AIMFG INSIGHTS - ECPv6.15.18//NONSGML v1.0//EN
CALSCALE:GREGORIAN
METHOD:PUBLISH
X-ORIGINAL-URL:https://aimfg.us
X-WR-CALDESC:Events for AIMFG INSIGHTS
REFRESH-INTERVAL;VALUE=DURATION:PT1H
X-Robots-Tag:noindex
X-PUBLISHED-TTL:PT1H
BEGIN:VTIMEZONE
TZID:America/Halifax
BEGIN:DAYLIGHT
TZOFFSETFROM:-0400
TZOFFSETTO:-0300
TZNAME:ADT
DTSTART:20250309T060000
END:DAYLIGHT
BEGIN:STANDARD
TZOFFSETFROM:-0300
TZOFFSETTO:-0400
TZNAME:AST
DTSTART:20251102T050000
END:STANDARD
BEGIN:DAYLIGHT
TZOFFSETFROM:-0400
TZOFFSETTO:-0300
TZNAME:ADT
DTSTART:20260308T060000
END:DAYLIGHT
BEGIN:STANDARD
TZOFFSETFROM:-0300
TZOFFSETTO:-0400
TZNAME:AST
DTSTART:20261101T050000
END:STANDARD
BEGIN:DAYLIGHT
TZOFFSETFROM:-0400
TZOFFSETTO:-0300
TZNAME:ADT
DTSTART:20270314T060000
END:DAYLIGHT
BEGIN:STANDARD
TZOFFSETFROM:-0300
TZOFFSETTO:-0400
TZNAME:AST
DTSTART:20271107T050000
END:STANDARD
END:VTIMEZONE
BEGIN:VEVENT
DTSTART;VALUE=DATE:20260420
DTEND;VALUE=DATE:20260425
DTSTAMP:20260421T202355
CREATED:20260421T180759Z
LAST-MODIFIED:20260421T180759Z
UID:2105-1776643200-1777075199@aimfg.us
SUMMARY:Industrial AI Conference – Hannover Messe 2026
DESCRIPTION:The Industrial AI Conference at Hannover Messe focuses on real-world applications of AI in manufacturing\, including predictive maintenance\, robotics\, and smart factory systems. It is part of the world’s largest industrial trade show and attracts global manufacturers\, automation companies\, and technology providers.
URL:https://aimfg.us/event/industrial-ai-conference-hannover-messe-2026/
LOCATION:Hannover Messe\, Hannover\, Germany
CATEGORIES:Conference,Trade Fair
ATTACH;FMTTYPE=image/jpeg:https://aimfg.us/wp-content/uploads/2026/04/hm_logo_col.jpg
END:VEVENT
END:VCALENDAR