BEGIN:VCALENDAR
VERSION:2.0
PRODID:-//AIMFG INSIGHTS - ECPv6.15.18//NONSGML v1.0//EN
CALSCALE:GREGORIAN
METHOD:PUBLISH
X-ORIGINAL-URL:https://aimfg.us
X-WR-CALDESC:Events for AIMFG INSIGHTS
REFRESH-INTERVAL;VALUE=DURATION:PT1H
X-Robots-Tag:noindex
X-PUBLISHED-TTL:PT1H
BEGIN:VTIMEZONE
TZID:America/Halifax
BEGIN:DAYLIGHT
TZOFFSETFROM:-0400
TZOFFSETTO:-0300
TZNAME:ADT
DTSTART:20230312T060000
END:DAYLIGHT
BEGIN:STANDARD
TZOFFSETFROM:-0300
TZOFFSETTO:-0400
TZNAME:AST
DTSTART:20231105T050000
END:STANDARD
BEGIN:DAYLIGHT
TZOFFSETFROM:-0400
TZOFFSETTO:-0300
TZNAME:ADT
DTSTART:20240310T060000
END:DAYLIGHT
BEGIN:STANDARD
TZOFFSETFROM:-0300
TZOFFSETTO:-0400
TZNAME:AST
DTSTART:20241103T050000
END:STANDARD
BEGIN:DAYLIGHT
TZOFFSETFROM:-0400
TZOFFSETTO:-0300
TZNAME:ADT
DTSTART:20250309T060000
END:DAYLIGHT
BEGIN:STANDARD
TZOFFSETFROM:-0300
TZOFFSETTO:-0400
TZNAME:AST
DTSTART:20251102T050000
END:STANDARD
END:VTIMEZONE
BEGIN:VTIMEZONE
TZID:America/New_York
BEGIN:DAYLIGHT
TZOFFSETFROM:-0500
TZOFFSETTO:-0400
TZNAME:EDT
DTSTART:20230312T070000
END:DAYLIGHT
BEGIN:STANDARD
TZOFFSETFROM:-0400
TZOFFSETTO:-0500
TZNAME:EST
DTSTART:20231105T060000
END:STANDARD
BEGIN:DAYLIGHT
TZOFFSETFROM:-0500
TZOFFSETTO:-0400
TZNAME:EDT
DTSTART:20240310T070000
END:DAYLIGHT
BEGIN:STANDARD
TZOFFSETFROM:-0400
TZOFFSETTO:-0500
TZNAME:EST
DTSTART:20241103T060000
END:STANDARD
BEGIN:DAYLIGHT
TZOFFSETFROM:-0500
TZOFFSETTO:-0400
TZNAME:EDT
DTSTART:20250309T070000
END:DAYLIGHT
BEGIN:STANDARD
TZOFFSETFROM:-0400
TZOFFSETTO:-0500
TZNAME:EST
DTSTART:20251102T060000
END:STANDARD
END:VTIMEZONE
BEGIN:VTIMEZONE
TZID:UTC
BEGIN:STANDARD
TZOFFSETFROM:+0000
TZOFFSETTO:+0000
TZNAME:UTC
DTSTART:20230101T000000
END:STANDARD
END:VTIMEZONE
BEGIN:VEVENT
DTSTART;TZID=America/Halifax:20240801T120000
DTEND;TZID=America/Halifax:20240801T130000
DTSTAMP:20260421T155842
CREATED:20240617T152430Z
LAST-MODIFIED:20240617T152430Z
UID:1850-1722513600-1722517200@aimfg.us
SUMMARY:Artificial Intelligence and the AI Smackdown: Case Studies in Implementation of AI in Advanced Manufacturing
DESCRIPTION:Welcome to our AI Smackdown\, a new format where we invite guests to talk about real stories of artificial intelligence in manufacturing from leading AI companies. We will discuss ROI\, the challenges\, the preparation\, the homework and the different approaches to artificial intelligence in manufacturing.\nKey Takeaways: \n\nTop considerations in approaching and implementing artificial intelligence\nTypical return on investment of artificial intelligence\nThe future of AI in manufacturing\n\n\nREGISTER TO WATCH WEBINAR \n\n\n\nPRESENTER\n\n\n\nJim Beretta is president at Customer Attraction\, a Marketing Consulting company specializing in the automation and robotics industry. He is best known as the driving force behind marketing and branding for one of North America’s largest automation integrators\, with over 20 years in the automation industry. He operates his marketing consultancy and works with Automation manufacturers\, distributors\, robot companies and the automation community around the world. Jim is a speaker and moderator at industry conferences and is an expert at marketing and branding. He is also a member of A3 Robotics.
URL:https://aimfg.us/event/artificial-intelligence-and-the-ai-smackdown-case-studies-in-implementation-of-ai-in-advanced-manufacturing/
LOCATION:Online
CATEGORIES:Webinar
ATTACH;FMTTYPE=image/jpeg:https://aimfg.us/wp-content/uploads/2024/06/futuristic-scene-with-high-tech-robot-used-construction-industry-scaled.jpg
END:VEVENT
BEGIN:VEVENT
DTSTART;TZID=America/Halifax:20240619T090000
DTEND;TZID=America/Halifax:20240619T100000
DTSTAMP:20260421T155842
CREATED:20240614T093838Z
LAST-MODIFIED:20240614T093838Z
UID:1846-1718787600-1718791200@aimfg.us
SUMMARY:Driving breakthrough productivity in industrial automation with Generative AI
DESCRIPTION:Transforming Manufacturing with FactoryTalk Design Studio\n\n\n\n\n\n\n\n\n\n\n\n \n\n\n\nDate: June 19\, 2024\n\nTime: 9:00 A.M. – 10:00 A.M. Central Daylight Time\n\nLanguage: English\n\n\n\n\nEverywhere you turn these days\, it seems you’re hearing how artificial intelligence is changing the world around us.  It’s a pervasive topic that’s creeping into all industries and business sectors\, including manufacturing. Come learn about the transformative potential of Generative AI within FactoryTalk® Design Studio™\, a cloud-based environment that’s the latest addition to our design portfolio.  See a demonstration of what’s available today\, what’s coming in the future\, and how it’s paving the way for a new era of agile and adaptive manufacturing practices. \nKey Takeaways: \n\nLearn how Rockwell Automation is a leader in integrating Generative AI into industrial automation.\nDiscover how Generative AI is available in the FactoryTalk Design Studio environment through the integrated copilot.\nGenerative AI is part of the future of industrial automation and the FactoryTalk Design Studio team will continue to add Generative AI capabilities to the environment.
URL:https://aimfg.us/event/driving-breakthrough-productivity-in-industrial-automation-with-generative-ai/
CATEGORIES:Webinar
ATTACH;FMTTYPE=image/jpeg:https://aimfg.us/wp-content/uploads/2024/06/ai-technology-microchip-background-futuristic-innovation-technology-remix-scaled.jpg
END:VEVENT
BEGIN:VEVENT
DTSTART;TZID=America/Halifax:20240605T123000
DTEND;TZID=America/Halifax:20240605T123000
DTSTAMP:20260421T155842
CREATED:20240531T115616Z
LAST-MODIFIED:20240531T115616Z
UID:1811-1717590600-1717590600@aimfg.us
SUMMARY:Intersection of AI and APIs at DeveloperWeek Europe
DESCRIPTION:Frank Kilcommins\, API Technical Evangelist at SmartBear\, a leading provider of software development and visibility solutions\, is presenting\, “The Arazzo Specification – Unlocking API Value for Humans and Machines\,” at DeveloperWeek Europe\, taking place live online on Wednesday\, June 5 – Thursday\, June 6\, 2024. As AI and APIs intersect at the heart of technical innovation\, the Arazzo Specification is preparing developers for the wave of AI API consumers. DeveloperWeek Europe gathers 2\,000+ engineering professionals and technical leaders for the largest virtual software developer conference and expo for Europe’s tech community. \nWHAT: SmartBear’s Frank Kilcommins presenting virtually at DeveloperWeek Europe \nWHEN: Wednesday\, June 5\, 2024\, 12:30 p.m. IST \nREGISTER: https://www.developerweek.com/europe/register/ \nFrank has over 15 years of experience in the technology industry\, his roles spanning from software engineering to enterprise architecture. His mission is to inspire\, engage with\, and support the API community as well as SmartBear customers across the end-to-end API development lifecycle and management space. \nFrank is discussing how the new Arazzo Specification\, developed under the OpenAPI Initiative\, enables the ability to craft workflows\, a series of API calls\, in a human- and machine-readable format. The Arazzo Specification can provide a sufficient level of predictable determinism to AI models\, allowing them to offer a natural language abstraction on top of the business use cases\, while in parallel giving interoperability benefits to the actual API providers. The result is more value with less vendor lock-in and consistent API offerings for both humans and the new wave of AI consumers. Arazzo Specification can provide a sufficient level of predictable determinism to AI models\, allowing them to offer a natural language abstraction on top of the business use cases\, while in parallel giving interoperability benefits to the actual API providers. The result is more value with less vendor lock-in and consistent API offerings for both humans and the new wave of AI consumers. \nThe benefits for human consumers are equally valuable\, and the Arazzo Specification affords the ability to unlock API value and improve developer experience for API producers and consumers. Overall\, the Arazzo Specification improves the capability of API specifications to tell the story of the API in a manner that improves interoperability across industries. \nSmartBear is at the forefront of AI-driven software development. To simplify the developer experience\, the company is connecting teams’ favorite tools and functionality in intuitive solution hubs\, featuring SmartBear HaloAI\, trusted AI-driven technology deploying across its product portfolio\, empowering development teams to achieve unprecedented levels of productivity and innovation. For more information\, go to: https://smartbear.com/ai/ \nFor more information on DeveloperWeek Europe\, go to: https://www.developerweek.com/europe/
URL:https://aimfg.us/event/intersection-of-ai-and-apis-at-developerweek-europe/
CATEGORIES:Webinar
END:VEVENT
BEGIN:VEVENT
DTSTART;TZID=America/New_York:20240411T120000
DTEND;TZID=America/New_York:20240411T130000
DTSTAMP:20260421T155842
CREATED:20240321T131638Z
LAST-MODIFIED:20240326T040232Z
UID:1328-1712836800-1712840400@aimfg.us
SUMMARY:Ethics in Autonomous Industrial AI: Tackling Bias and Data Privacy
DESCRIPTION:ABOUT THIS WEBINAR \n\nWe rarely talk about biases or data privacy when it comes to industrial automation\, and we should. Autonomous mobile robots can have cameras\, sensors and listening devices. Should we be telling our customers? Our employees and contractors? Join us and our expert guests on ethics and data privacy to talk about underlying issues of expected and real privacy issues in manufacturing and automation environments. \n\nPRESENTER\n\n\n \n\nJim Beretta \nJim Beretta is president at Customer Attraction\, a Marketing Consulting company specializing in the automation and robotics industry. He is best known as the driving force behind marketing and branding for one of North America’s largest automation integrators\, with over 20 years in the automation industry. He operates his marketing consultancy and works with Automation manufacturers\, distributors\, robot companies and the automation community around the world. Jim is a speaker and moderator at industry conferences and is an expert at marketing and branding. He is also a member of A3 Robotics.
URL:https://aimfg.us/event/ethics-in-autonomous-industrial-ai-tackling-bias-and-data-privacy/
LOCATION:Online
CATEGORIES:Webinar
ATTACH;FMTTYPE=image/jpeg:https://aimfg.us/wp-content/uploads/2024/03/AdobeStock_5887728651-scaled.jpg
END:VEVENT
BEGIN:VEVENT
DTSTART;TZID=America/Halifax:20240410T140000
DTEND;TZID=America/Halifax:20240410T150000
DTSTAMP:20260421T155842
CREATED:20240327T232552Z
LAST-MODIFIED:20240327T232702Z
UID:1456-1712757600-1712761200@aimfg.us
SUMMARY:M2030 Project: Preparing for the GenAI Revolution: Enterprise Readiness in Manufacturing
DESCRIPTION:Generative AI has hit the business world like a tidal wave. In one short year\, it’s estimated that anywhere from 25% to 35% of enterprises are already beginning to adopt GenAI. \nGenAI holds immense potential to help manufacturers adapt to changing market dynamics\, unlock new avenues for growth and innovation and achieve competitive advantage. From equipment diagnostics and supply chain optimization to product quality and design acceleration\, GenAI has opened a whole new realm of opportunities and challenges for enterprises. But as with any rapid\, revolutionary technology\, readiness\, responsible application and speed to market are essential to differentiation and competitive advantage. \nWhat we’ll discuss: \n\nCurrent Market Trends and Adoption: Get the latest on fast-moving technology innovations and how they are being vetted and adopted by companies.\nGenAI applications in Manufacturing: There are many potential manufacturing use cases. We’ll explore how to identify and prioritize the ones that’ll generate the most value for your organization.\nEnterprise Considerations and Readiness for GenAI: We’ll discuss how to prepare your enterprise to bring GenAI to life\, from your data foundation and cloud architecture to governance and change management.\nChallenges to Deployment: While manufacturers see the potential of technologies like GenAI\, they face roadblocks to implementing them. MLC research shows that 56% say they have an organizational structure or culture that is resistant to change\, while 37% say they are held back by the need to upgrade their legacy systems.\n\nAn executive conversation with: \n\nWendy Collins\, Chief AI Officer\, NTT DATA\nSteven Moskowitz\, Ph.D.\, Senior Director\, Manufacturing Leadership Council\n\nThis call is part of the MLC’s Manufacturing in 2030 project.
URL:https://aimfg.us/event/m2030-project-preparing-for-the-genai-revolution-enterprise-readiness-in-manufacturing/
LOCATION:Online
CATEGORIES:Webinar
ATTACH;FMTTYPE=image/jpeg:https://aimfg.us/wp-content/uploads/2023/10/2150405630.jpg
END:VEVENT
BEGIN:VEVENT
DTSTART;TZID=UTC:20240409T100000
DTEND;TZID=UTC:20240409T120000
DTSTAMP:20260421T155842
CREATED:20240321T015348Z
LAST-MODIFIED:20240321T132202Z
UID:1289-1712656800-1712664000@aimfg.us
SUMMARY:2024 Manufacturing Trends — Unpacking AI\, Workforce\, and Cybersecurity
DESCRIPTION:The world of manufacturing is changing\, and Generative AI is one of the many change agents. The 2024 State of Smart Manufacturing Report takes a deep dive into how Generative AI is powering the workforce to new levels. The data this year shows that the economy and inflation remain a top concern\, but organizations are spending more year-over-year on technology to gain a competitive edge. This year’s report contains these and other key insights taken from the 17-country\, 1600 respondent survey conducted by an unbiased 3rd part research firm. The findings reveal how manufacturers are approaching technology and their workforce in 2024 – and beyond – to build the resilient future of tomorrow. \nPart One: 2024 Manufacturing Trends — Unpacking AI\, Workforce\, and Cybersecurity\n\nJoin us to learn how global manufacturers are harnessing emergent technology to maximize workforce potential\, reduce risk\, increase quality\, and deliver sustainable growth. We will discuss: \n\nThe rapid growth of GenAI – 83% of respondents expect to be using it in their operations in 2024\nEmpowering the workforce: 94% of respondents expect to maintain or grow their workforce as a result of technology adoption\nRisk and resiliency: Cybersecurity is a top 5 risk for the first time\, showing its significance to the manufacturing community\n\nJoin us to learn more about these exciting topics and other key takeaways from the 2024 State of Smart Manufacturing Report! \n\nSpeaker:\nAndy Stump – Director\, Business Development for Strategic Initiatives\, Rockwell Automation\n \nDate & Time:\nApril 9\, 2024 – 10:00:00 AM CT
URL:https://aimfg.us/event/2024-manufacturing-trends-unpacking-ai-workforce-and-cybersecurity/
LOCATION:Online
CATEGORIES:Webinar
ATTACH;FMTTYPE=image/webp:https://aimfg.us/wp-content/uploads/2024/03/Sustainability-and-ESG-in-Smart-Manufacturing.768.webp
END:VEVENT
END:VCALENDAR